BEGIN:VCALENDAR
VERSION:2.0
PRODID:Teatro na Aldeia
X-WR-CALNAME:Teatro na Aldeia
X-WR-TIMEZONE:Europe/Lisbon
X-PUBLISHED-TTL:P1W
BEGIN:VTIMEZONE
TZID:Europe/Lisbon
X-LIC-LOCATION:Europe/Lisbon
END:VTIMEZONE
BEGIN:VEVENT
UID:69e88c8d2e0f2
DTSTART;VALUE=DATE:20250706
SEQUENCE:0
TRANSP:OPAQUE
DTEND;VALUE=DATE:20250707
SUMMARY:Teatro na Aldeia
CLASS:PUBLIC
DESCRIPTION:   
X-MICROSOFT-CDO-ALLDAYEVENT:TRUE
DTSTAMP:20260422T085333Z
END:VEVENT
END:VCALENDAR