BEGIN:VCALENDAR
VERSION:2.0
PRODID:Mindfulness e Happy Yoga
X-WR-CALNAME:Mindfulness e Happy Yoga
X-WR-TIMEZONE:Europe/Lisbon
X-PUBLISHED-TTL:P1W
BEGIN:VTIMEZONE
TZID:Europe/Lisbon
X-LIC-LOCATION:Europe/Lisbon
END:VTIMEZONE
BEGIN:VEVENT
UID:69e5c96338480
DTSTART;VALUE=DATE:20260425
SEQUENCE:0
TRANSP:OPAQUE
DTEND;VALUE=DATE:20260426
SUMMARY:Mindfulness e Happy Yoga
CLASS:PUBLIC
DESCRIPTION:&nbsp\; &nbsp\; &nbsp\;&nbsp\;
X-MICROSOFT-CDO-ALLDAYEVENT:TRUE
DTSTAMP:20260420T063619Z
END:VEVENT
END:VCALENDAR